BEGIN:VCALENDAR
VERSION:2.0
PRODID:icalendar-ruby
CALSCALE:GREGORIAN
METHOD:PUBLISH
BEGIN:VEVENT
DTSTAMP:20260424T145549Z
UID:150-250986@pathwaylife.tithelysetup5.com
DTSTART:20261101T130000Z
DTEND:20261101T133000Z
CLASS:PUBLIC
CREATED:20260424T094251
DESCRIPTION:If you'd like to start your Sunday in prayer\, our prayer team 
 meets from 8:00–8:30 AM in the Pathway Lounge to pray for our church\, o
 ur community\, and beyond. Everyone is welcome to join.
LAST-MODIFIED:20260424T094251
LOCATION:
SUMMARY:Morning Prayer
URL;VALUE=URI:https://pathwaylife.com/events/morning-prayer/2026-11-01
ATTACH;FILENAME=March 2025 Slides.jpg;FMTTYPE=image/jpeg:https://dq5pwpg1q8
 ru0.cloudfront.net/2025/04/02/03/49/01/b1a64e83-eaf3-4455-a9af-6e6e0ca240a
 6/March%202025%20Slides.jpg
END:VEVENT
END:VCALENDAR
